BEGIN:VCALENDAR
VERSION:2.0
PRODID:-//Burwell Museum &amp; Windmill - ECPv6.15.20//NONSGML v1.0//EN
CALSCALE:GREGORIAN
METHOD:PUBLISH
X-ORIGINAL-URL:https://burwellmuseum.org.uk
X-WR-CALDESC:Events for Burwell Museum &amp; Windmill
REFRESH-INTERVAL;VALUE=DURATION:PT1H
X-Robots-Tag:noindex
X-PUBLISHED-TTL:PT1H
BEGIN:VTIMEZONE
TZID:Europe/London
BEGIN:DAYLIGHT
TZOFFSETFROM:+0000
TZOFFSETTO:+0100
TZNAME:BST
DTSTART:20250330T010000
END:DAYLIGHT
BEGIN:STANDARD
TZOFFSETFROM:+0100
TZOFFSETTO:+0000
TZNAME:GMT
DTSTART:20251026T010000
END:STANDARD
BEGIN:DAYLIGHT
TZOFFSETFROM:+0000
TZOFFSETTO:+0100
TZNAME:BST
DTSTART:20260329T010000
END:DAYLIGHT
BEGIN:STANDARD
TZOFFSETFROM:+0100
TZOFFSETTO:+0000
TZNAME:GMT
DTSTART:20261025T010000
END:STANDARD
BEGIN:DAYLIGHT
TZOFFSETFROM:+0000
TZOFFSETTO:+0100
TZNAME:BST
DTSTART:20270328T010000
END:DAYLIGHT
BEGIN:STANDARD
TZOFFSETFROM:+0100
TZOFFSETTO:+0000
TZNAME:GMT
DTSTART:20271031T010000
END:STANDARD
END:VTIMEZONE
BEGIN:VEVENT
DTSTART;TZID=Europe/London:20260509T100000
DTEND;TZID=Europe/London:20260510T160000
DTSTAMP:20260423T194026
CREATED:20250103T213113Z
LAST-MODIFIED:20260315T223809Z
UID:2528-1778320800-1778428800@burwellmuseum.org.uk
SUMMARY:National Mills Open Weekend - Saturday and Sunday
DESCRIPTION:#nationalmillsweekend \nFree entry to Stevens’ Mill\nUsual admission charges for entry to the rest of the museum \n10am – 4pm Saturday 9th and Sunday 10th May 2026 \nA particular focus on Stevens’ Mill\, Burwell’s only remaining windmill\, 13 years since its major restoration.\nLearn about milling and wind power\, grind grain using quern stones and climb all four floors to the top of the mill and look out across the views of Burwell and beyond.\nMeet members of the mill team and find out more about the history of our mill through photographs. \nMill Tours (free) need to be booked on arrival or online as we can only take a limited number of people upstairs at any one time. If you would like to see the rest of the museum then admission charges apply for that. \nSaturday tickets\n\n\nSunday tickets\n\n \nExtra ‘goodies’ on sale in our Tea Room. \nPlease note\, for safety reasons\, you must be at least 1.1 metres tall for a mill tour. No high heel shoes. No flipflops. No carrying children or animals up the ladders. No bags. The mill tour guide has the right to refuse access above the ground floor based on a visitor’s fitness and ability. The ladders are steep and narrow. If a visitor can not climb unaided they will be refused access.\nFurther Stevens Mill info here. \nCar Parking \nIf driving to the museum please park in the Gardiner Memorial Hall car park in the High Street. This will be signed as Museum Carpark during our opening hours. Carpark entrance location on What3Words ///intestine.dictation.goat and on Google Maps https://maps.app.goo.gl/VaG7SXJQSLqd2aQn7 . If the carpark is full please park in the surrounding streets.\nPlease do not park in Mill Close unless you are a disabled badge holder. Wherever you park please be considerate of residents. \nCycle parking available next to the mill near the entrance to the museum. \nNo dogs allowed in the tearoom or the windmill\, apart from assistance dogs. Dogs welcome in our outdoor areas. \nNational Mills Weekend continues on Sunday
URL:https://burwellmuseum.org.uk/events/national-mills-open-weekend/
LOCATION:Burwell Museum & Windmill\, Mill Close\, Burwell\, CB25 0HL\, United Kingdom
CATEGORIES:National Mills Weekend
ATTACH;FMTTYPE=image/png:https://burwellmuseum.org.uk/wp-content/uploads/2024/02/Mills-Weekend-e1773536972978.png
ORGANIZER;CN="Burwell Museum":MAILTO:museum@burwellmuseum.org.uk
END:VEVENT
END:VCALENDAR