BEGIN:VCALENDAR
VERSION:2.0
PRODID:-//Burwell Museum &amp; Windmill - ECPv6.15.20//NONSGML v1.0//EN
CALSCALE:GREGORIAN
METHOD:PUBLISH
X-ORIGINAL-URL:https://burwellmuseum.org.uk
X-WR-CALDESC:Events for Burwell Museum &amp; Windmill
REFRESH-INTERVAL;VALUE=DURATION:PT1H
X-Robots-Tag:noindex
X-PUBLISHED-TTL:PT1H
BEGIN:VTIMEZONE
TZID:Europe/London
BEGIN:DAYLIGHT
TZOFFSETFROM:+0000
TZOFFSETTO:+0100
TZNAME:BST
DTSTART:20250330T010000
END:DAYLIGHT
BEGIN:STANDARD
TZOFFSETFROM:+0100
TZOFFSETTO:+0000
TZNAME:GMT
DTSTART:20251026T010000
END:STANDARD
BEGIN:DAYLIGHT
TZOFFSETFROM:+0000
TZOFFSETTO:+0100
TZNAME:BST
DTSTART:20260329T010000
END:DAYLIGHT
BEGIN:STANDARD
TZOFFSETFROM:+0100
TZOFFSETTO:+0000
TZNAME:GMT
DTSTART:20261025T010000
END:STANDARD
BEGIN:DAYLIGHT
TZOFFSETFROM:+0000
TZOFFSETTO:+0100
TZNAME:BST
DTSTART:20270328T010000
END:DAYLIGHT
BEGIN:STANDARD
TZOFFSETFROM:+0100
TZOFFSETTO:+0000
TZNAME:GMT
DTSTART:20271031T010000
END:STANDARD
END:VTIMEZONE
BEGIN:VEVENT
DTSTART;TZID=Europe/London:20260912T100000
DTEND;TZID=Europe/London:20260913T160000
DTSTAMP:20260425T195451
CREATED:20180120T125747Z
LAST-MODIFIED:20260201T012410Z
UID:1927-1789207200-1789315200@burwellmuseum.org.uk
SUMMARY:Heritage Open Days
DESCRIPTION:Saturday and Sunday 12th and 13th September \nFree admission\, including mill tours\, today!\n \n\nFurther details to follow\, but will include the followin…\nBlacksmith demonstrating in the Forge \nTraditional spinning demonstrations \n\nMuseum & mill open as normal. \nParking\nPlease park in the Gardiner Memorial Hall car park in the High Street. Directions here. Cycle parking right by museum entrance. \n10:00am-4:00pm. Last admission 3:00pm. Free entry.
URL:https://burwellmuseum.org.uk/events/heritage-open-days/
LOCATION:Burwell Museum & Windmill\, Mill Close\, Burwell\, CB25 0HL\, United Kingdom
CATEGORIES:Museum
ORGANIZER;CN="Burwell Museum":MAILTO:museum@burwellmuseum.org.uk
END:VEVENT
END:VCALENDAR