BEGIN:VCALENDAR
VERSION:2.0
PRODID:-//Burwell Museum &amp; Windmill - ECPv6.15.20//NONSGML v1.0//EN
CALSCALE:GREGORIAN
METHOD:PUBLISH
X-WR-CALNAME:Burwell Museum &amp; Windmill
X-ORIGINAL-URL:https://burwellmuseum.org.uk
X-WR-CALDESC:Events for Burwell Museum &amp; Windmill
REFRESH-INTERVAL;VALUE=DURATION:PT1H
X-Robots-Tag:noindex
X-PUBLISHED-TTL:PT1H
BEGIN:VTIMEZONE
TZID:Europe/London
BEGIN:DAYLIGHT
TZOFFSETFROM:+0000
TZOFFSETTO:+0100
TZNAME:BST
DTSTART:20240331T010000
END:DAYLIGHT
BEGIN:STANDARD
TZOFFSETFROM:+0100
TZOFFSETTO:+0000
TZNAME:GMT
DTSTART:20241027T010000
END:STANDARD
BEGIN:DAYLIGHT
TZOFFSETFROM:+0000
TZOFFSETTO:+0100
TZNAME:BST
DTSTART:20250330T010000
END:DAYLIGHT
BEGIN:STANDARD
TZOFFSETFROM:+0100
TZOFFSETTO:+0000
TZNAME:GMT
DTSTART:20251026T010000
END:STANDARD
BEGIN:DAYLIGHT
TZOFFSETFROM:+0000
TZOFFSETTO:+0100
TZNAME:BST
DTSTART:20260329T010000
END:DAYLIGHT
BEGIN:STANDARD
TZOFFSETFROM:+0100
TZOFFSETTO:+0000
TZNAME:GMT
DTSTART:20261025T010000
END:STANDARD
END:VTIMEZONE
BEGIN:VEVENT
DTSTART;TZID=Europe/London:20251026T100000
DTEND;TZID=Europe/London:20251026T160000
DTSTAMP:20260425T132745
CREATED:20220914T130117Z
LAST-MODIFIED:20250930T134848Z
UID:1935-1761472800-1761494400@burwellmuseum.org.uk
SUMMARY:Halloween at the Museum (Sunday)
DESCRIPTION:£8 per child (special priced advance online tickets only. £10 if bought on the day at the museum). Must be accompanied by an adult (free)\n\n\n\nSunday tickets \n\n \nSpecial activities: \n\nScavenger Hunt\,\nSensory Boxes\,\nCrafts\,\nStory Telling\,\nBone Man\,\nBug Man\,\nFace Painting\,\nHoliday Treats for sale in the Tea Room\, prizes\n\n  \n– Fancy Dress encouraged!\nOnline sales end 2 days before event date. \nMuseum admission applies for anyone not taking part in the Halloween event. \nTea room open for snacks and hot & cold drinks. \nDogs are welcome on a lead. No dogs allowed inside our tea room or windmill\, except for assistance dogs. Water is available from the outside tap on our toilet block\, but please bring your own bowl. (This water is from the mains so it’s suitable for humans too) \nVisitor parking is at the Gardiner Memorial Hall in the High Street (near the 5 Bells pub). Short walk from rear left corner of the car park to the museum. Please leave Mill Close clear for disabled badge holders. \nCycles\nWe have cycle racks just outside our main gate.
URL:https://burwellmuseum.org.uk/events/halloween2/
LOCATION:Burwell Museum & Windmill\, Mill Close\, Burwell\, CB25 0HL\, United Kingdom
CATEGORIES:Halloween,Museum
ATTACH;FMTTYPE=image/jpeg:https://burwellmuseum.org.uk/wp-content/uploads/2025/09/Halloween-v3-e1758366293522.jpg
ORGANIZER;CN="Burwell Museum":MAILTO:museum@burwellmuseum.org.uk
END:VEVENT
END:VCALENDAR