BEGIN:VCALENDAR
VERSION:2.0
PRODID:-//Burwell Museum &amp; Windmill - ECPv6.15.20//NONSGML v1.0//EN
CALSCALE:GREGORIAN
METHOD:PUBLISH
X-ORIGINAL-URL:https://burwellmuseum.org.uk
X-WR-CALDESC:Events for Burwell Museum &amp; Windmill
REFRESH-INTERVAL;VALUE=DURATION:PT1H
X-Robots-Tag:noindex
X-PUBLISHED-TTL:PT1H
BEGIN:VTIMEZONE
TZID:Europe/London
BEGIN:DAYLIGHT
TZOFFSETFROM:+0000
TZOFFSETTO:+0100
TZNAME:BST
DTSTART:20240331T010000
END:DAYLIGHT
BEGIN:STANDARD
TZOFFSETFROM:+0100
TZOFFSETTO:+0000
TZNAME:GMT
DTSTART:20241027T010000
END:STANDARD
BEGIN:DAYLIGHT
TZOFFSETFROM:+0000
TZOFFSETTO:+0100
TZNAME:BST
DTSTART:20250330T010000
END:DAYLIGHT
BEGIN:STANDARD
TZOFFSETFROM:+0100
TZOFFSETTO:+0000
TZNAME:GMT
DTSTART:20251026T010000
END:STANDARD
BEGIN:DAYLIGHT
TZOFFSETFROM:+0000
TZOFFSETTO:+0100
TZNAME:BST
DTSTART:20260329T010000
END:DAYLIGHT
BEGIN:STANDARD
TZOFFSETFROM:+0100
TZOFFSETTO:+0000
TZNAME:GMT
DTSTART:20261025T010000
END:STANDARD
END:VTIMEZONE
BEGIN:VEVENT
DTSTART;TZID=Europe/London:20250421T100000
DTEND;TZID=Europe/London:20250421T160000
DTSTAMP:20260425T022415
CREATED:20250420T164610Z
LAST-MODIFIED:20250420T165005Z
UID:2532-1745229600-1745251200@burwellmuseum.org.uk
SUMMARY:Easter Egg Hunt - Monday
DESCRIPTION:Easter Egg hunt\, windmill tours and refreshments for the whole family at our first open days of the year\nUsual Museum admission applies.\nPay at the Admission cabin on the day\, or online in advance.\n \nEaster Family Fun at Burwell Museum & Windmill. Monday 21st April\, 10am – 4pm (last admission 3pm) \nEaster Egg hunt £2\nChocolate prize for every egg hunter even if you don’t finish. (Start any time between 10am – 3pm)\n\n\n \nWindmill tours £2 per person. (Minimum height 1.1metres) Tickets from the Admission Cabin or buy them in advance with your museum admission tickets online.(see link above) \nOur Easter Bunny is having a rest this year but has arranged something new for visitors this year. All will be revealed soon! \nFacepainting. \nHot Cross Buns on sale in the tea room. \nDriving and parking\nIf driving to the museum please do not park in Mill Close unless you are a disabled badge holder. Free parking is available in the Gardiner Memorial Hall car park. Please see the Find us page for more info. \nThere are no buses serving Burwell on Sundays or Bank Holidays. \n 
URL:https://burwellmuseum.org.uk/events/easter-egg-hunt-monday/
LOCATION:Burwell Museum & Windmill\, Mill Close\, Burwell\, CB25 0HL\, United Kingdom
CATEGORIES:Museum
ATTACH;FMTTYPE=image/jpeg:https://burwellmuseum.org.uk/wp-content/uploads/2015/02/easter-eggs.jpg
ORGANIZER;CN="Burwell Museum":MAILTO:museum@burwellmuseum.org.uk
END:VEVENT
END:VCALENDAR